BEGIN:VCALENDAR
VERSION:2.0
PRODID:-//Scottish Rite of Orange County - ECPv6.15.20//NONSGML v1.0//EN
CALSCALE:GREGORIAN
METHOD:PUBLISH
X-WR-CALNAME:Scottish Rite of Orange County
X-ORIGINAL-URL:https://www.ocscottishrite.org
X-WR-CALDESC:Events for Scottish Rite of Orange County
REFRESH-INTERVAL;VALUE=DURATION:PT1H
X-Robots-Tag:noindex
X-PUBLISHED-TTL:PT1H
BEGIN:VTIMEZONE
TZID:America/Los_Angeles
BEGIN:DAYLIGHT
TZOFFSETFROM:-0800
TZOFFSETTO:-0700
TZNAME:PDT
DTSTART:20240310T100000
END:DAYLIGHT
BEGIN:STANDARD
TZOFFSETFROM:-0700
TZOFFSETTO:-0800
TZNAME:PST
DTSTART:20241103T090000
END:STANDARD
BEGIN:DAYLIGHT
TZOFFSETFROM:-0800
TZOFFSETTO:-0700
TZNAME:PDT
DTSTART:20250309T100000
END:DAYLIGHT
BEGIN:STANDARD
TZOFFSETFROM:-0700
TZOFFSETTO:-0800
TZNAME:PST
DTSTART:20251102T090000
END:STANDARD
BEGIN:DAYLIGHT
TZOFFSETFROM:-0800
TZOFFSETTO:-0700
TZNAME:PDT
DTSTART:20260308T100000
END:DAYLIGHT
BEGIN:STANDARD
TZOFFSETFROM:-0700
TZOFFSETTO:-0800
TZNAME:PST
DTSTART:20261101T090000
END:STANDARD
END:VTIMEZONE
BEGIN:VEVENT
DTSTART;TZID=America/Los_Angeles:20250119T130000
DTEND;TZID=America/Los_Angeles:20250119T163000
DTSTAMP:20260420T233532
CREATED:20260113T031630Z
LAST-MODIFIED:20260113T031630Z
UID:4531-1737291600-1737304200@www.ocscottishrite.org
SUMMARY:Officer Installation Ceremony: January 19\, 2025\, 1:00–4:30 PM
DESCRIPTION:MW Art as IO
URL:https://www.ocscottishrite.org/ocsrevent/officer-installation-ceremony-january-19-2025-100-430-pm/
END:VEVENT
BEGIN:VEVENT
DTSTART;TZID=America/Los_Angeles:20250119T150000
DTEND;TZID=America/Los_Angeles:20250119T180000
DTSTAMP:20260420T233532
CREATED:20241217T173433Z
LAST-MODIFIED:20241217T173433Z
UID:4098-1737298800-1737309600@www.ocscottishrite.org
SUMMARY:Installation of Officers - 2025
DESCRIPTION:Join us for our 2025 Officer Installation! \nThe Installation ceremony will commence promptly at 3:00 PM. Distinguished guests will include visiting dignitaries from various Masonic Lodges\, Scottish Rite Valleys\, and our esteemed California Grand Master of Masons\, Arthur Salazar\, Jr. \nWe encourage all brethren to attend this special occasion and join in celebrating the beginning of another remarkable year for the Orange County Scottish Rite.
URL:https://www.ocscottishrite.org/ocsrevent/installation-of-officers-2025/
LOCATION:Orange Grove Masonic Center\, 71 Plaza Square\, Orange\, CA\, 92866\, United States
ATTACH;FMTTYPE=image/jpeg:https://www.ocscottishrite.org/wp-content/uploads/statedmeetingdinner-4.jpg
END:VEVENT
END:VCALENDAR